BEGIN:VCALENDAR
VERSION:2.0
PRODID:-//TOPS Volleyball Academy - ECPv4.0.5//NONSGML v1.0//EN
CALSCALE:GREGORIAN
METHOD:PUBLISH
X-WR-CALNAME:TOPS Volleyball Academy
X-ORIGINAL-URL:https://www.topsvolleyball.com
X-WR-CALDESC:Events for TOPS Volleyball Academy
BEGIN:VEVENT
DTSTART;TZID="UTC+0":20200314T090000
DTEND;TZID="UTC+0":20200314T150000
DTSTAMP:20260423T101921
CREATED:20200103T044855
LAST-MODIFIED:20200309T001925
UID:1063-1584176400-1584198000@www.topsvolleyball.com
SUMMARY:Session 2b – Boys 18U (Saturday\, March 14\, 2020)
DESCRIPTION:18U ages include: 16\, 17\, and 18 years old.\n\n12 Spots Available.\n\nLunch will not be provided.\n\nAll programs are on St. James Campus.\n\nParking Details:\nKing George Square Parking\nOn George Street (between Adelaide and King)\nUnderground parking - $5 flat rate on weekends\n\nPlease note: if you cancel your registration for any of the Setter Libero one day camps there will be a refund less $20 for an administration fee.
URL:https://www.topsvolleyball.com/program/session-2b-boys-18u-saturday-march-14-2020/
LOCATION:200 King Street East\, \, Toronto\, ON\, M5A 3W8\, Canada
CATEGORIES:Girls
END:VEVENT
END:VCALENDAR