BEGIN:VCALENDAR
VERSION:2.0
PRODID:-//TOPS Volleyball Academy - ECPv4.0.5//NONSGML v1.0//EN
CALSCALE:GREGORIAN
METHOD:PUBLISH
X-WR-CALNAME:TOPS Volleyball Academy
X-ORIGINAL-URL:https://www.topsvolleyball.com
X-WR-CALDESC:Events for TOPS Volleyball Academy
BEGIN:VEVENT
DTSTART;TZID="UTC+0":20180224T090000
DTEND;TZID="UTC+0":20180224T150000
DTSTAMP:20260423T182056
CREATED:20180108T055906
LAST-MODIFIED:20180108T172832
UID:743-1519462800-1519484400@www.topsvolleyball.com
SUMMARY:Session 2a - Girls 15U (Saturday\, February 24\, 2018)
DESCRIPTION:15U ages include: 13\, 14\, and 15 years old.\n\n12 Spots Available.\n\nLunch will not be provided.\n\nAll programs are on St. James Campus.\n\nParking Details:\nKing George Square Parking\nOn George Street (between Adelaide and King)\nUnderground parking - $5 flat rate on weekends
URL:https://www.topsvolleyball.com/program/session-2a-girls-15u-february-24-2018/
LOCATION:200 King Street East\, \, Toronto\, ON\, M5A 3W8\, Canada
CATEGORIES:Girls,Setter & Libero Camps
END:VEVENT
END:VCALENDAR