BEGIN:VCALENDAR
VERSION:2.0
PRODID:-//TOPS Volleyball Academy - ECPv4.0.5//NONSGML v1.0//EN
CALSCALE:GREGORIAN
METHOD:PUBLISH
X-WR-CALNAME:TOPS Volleyball Academy
X-ORIGINAL-URL:https://www.topsvolleyball.com
X-WR-CALDESC:Events for TOPS Volleyball Academy
BEGIN:VEVENT
DTSTART;TZID="UTC+0":20180506T090000
DTEND;TZID="UTC+0":20180506T150000
DTSTAMP:20260423T152029
CREATED:20180321T003543
LAST-MODIFIED:20180321T003543
UID:794-1525597200-1525618800@www.topsvolleyball.com
SUMMARY:Session 2a – Boys 15U (Sunday\, May 6\, 2018)
DESCRIPTION:15U ages include: 13\, 14\, and 15 years old.\n\n12 Spots Available.\n\nLunch will not be provided.\n\nAll programs are on St. James Campus.\n\nParking Details:\nKing George Square Parking\nOn George Street (between Adelaide and King)\nUnderground parking - $5 flat rate on weekends
URL:https://www.topsvolleyball.com/program/session-2a-boys-15u-sunday-may-6-2018/
LOCATION:200 King Street East\, \, Toronto\, ON\, M5A 3W8\, Canada
CATEGORIES:Boys,Setter & Libero Camps
END:VEVENT
END:VCALENDAR