BEGIN:VCALENDAR
VERSION:2.0
PRODID:-//TOPS Volleyball Academy - ECPv4.0.5//NONSGML v1.0//EN
CALSCALE:GREGORIAN
METHOD:PUBLISH
X-WR-CALNAME:TOPS Volleyball Academy
X-ORIGINAL-URL:https://www.topsvolleyball.com
X-WR-CALDESC:Events for TOPS Volleyball Academy
BEGIN:VEVENT
DTSTART;TZID="UTC+0":20170506T090000
DTEND;TZID="UTC+0":20170506T170000
DTSTAMP:20260423T170550
CREATED:20170317T032406
LAST-MODIFIED:20170321T140738
UID:651-1494061200-1494090000@www.topsvolleyball.com
SUMMARY:Session 2a - Boys 15U (May 6\, 2017)
DESCRIPTION:12 Spots Available.\n\nLunch will not be provided.\n\nAll programs are on St. James Campus.\n\nParking Details:\nKing George Square Parking\nOn George Street (between Adelaide and King)\nUnderground parking - $5 flat rate on weekends
URL:https://www.topsvolleyball.com/program/session-2a-boys-15u-may-6-2017/
LOCATION:200 King Street East\, \, Toronto\, ON\, M5A 3W8\, Canada
CATEGORIES:Boys
END:VEVENT
END:VCALENDAR