BEGIN:VCALENDAR
VERSION:2.0
PRODID:-//TOPS Volleyball Academy - ECPv4.0.5//NONSGML v1.0//EN
CALSCALE:GREGORIAN
METHOD:PUBLISH
X-WR-CALNAME:TOPS Volleyball Academy
X-ORIGINAL-URL:https://www.topsvolleyball.com
X-WR-CALDESC:Events for TOPS Volleyball Academy
BEGIN:VEVENT
DTSTART;TZID="UTC+0":20170429T090000
DTEND;TZID="UTC+0":20170429T150000
DTSTAMP:20260423T202140
CREATED:20170317T032133
LAST-MODIFIED:20170321T140741
UID:645-1493456400-1493478000@www.topsvolleyball.com
SUMMARY:Session 1b - Girls 18U (April 29\, 2017)
DESCRIPTION:12 Spots Available.\n\nLunch will not be provided.\n\nAll programs are on St. James Campus.\n\nParking Details:\nKing George Square Parking\nOn George Street (between Adelaide and King)\nUnderground parking - $5 flat rate on weekends
URL:https://www.topsvolleyball.com/program/session-1b-girls-18u-april-29-2017/
LOCATION:200 King Street East\, \, Toronto\, ON\, M5A 3W8\, Canada
CATEGORIES:Girls
END:VEVENT
END:VCALENDAR