BEGIN:VCALENDAR
VERSION:2.0
PRODID:-//TOPS Volleyball Academy - ECPv4.0.5//NONSGML v1.0//EN
CALSCALE:GREGORIAN
METHOD:PUBLISH
X-WR-CALNAME:TOPS Volleyball Academy
X-ORIGINAL-URL:https://www.topsvolleyball.com
X-WR-CALDESC:Events for TOPS Volleyball Academy
BEGIN:VEVENT
DTSTART;TZID="UTC+0":20160507T090000
DTEND;TZID="UTC+0":20160507T150000
DTSTAMP:20260423T175835
CREATED:20160323T181745
LAST-MODIFIED:20160323T181745
UID:437-1462611600-1462633200@www.topsvolleyball.com
SUMMARY:Session 1 - Boys 15U (May 7\, 2016)
DESCRIPTION:12 Spots Available.\n\nLunch will not be provided.\n\nAll programs are on St. James Campus.\n\nParking Details:\nKing George Square Parking\nOn George Street (between Adelaide and King)\nUnderground parking - $5 flat rate on weekends
URL:https://www.topsvolleyball.com/program/session-1-boys-15u-may-7-2016/
LOCATION:200 King Street East\, \, Toronto\, ON\, M5A 3W8\, Canada
CATEGORIES:Boys,Setter & Libero Camps
END:VEVENT
END:VCALENDAR